BEGIN:VCALENDAR
VERSION:2.0
PRODID:-//PCA - ECPv6.15.12.2//NONSGML v1.0//EN
CALSCALE:GREGORIAN
METHOD:PUBLISH
X-WR-CALNAME:PCA
X-ORIGINAL-URL:https://www.pcapainted.org
X-WR-CALDESC:Events for PCA
REFRESH-INTERVAL;VALUE=DURATION:PT1H
X-Robots-Tag:noindex
X-PUBLISHED-TTL:PT1H
BEGIN:VTIMEZONE
TZID:America/Chicago
BEGIN:DAYLIGHT
TZOFFSETFROM:-0600
TZOFFSETTO:-0500
TZNAME:CDT
DTSTART:20220313T080000
END:DAYLIGHT
BEGIN:STANDARD
TZOFFSETFROM:-0500
TZOFFSETTO:-0600
TZNAME:CST
DTSTART:20221106T070000
END:STANDARD
BEGIN:DAYLIGHT
TZOFFSETFROM:-0600
TZOFFSETTO:-0500
TZNAME:CDT
DTSTART:20230312T080000
END:DAYLIGHT
BEGIN:STANDARD
TZOFFSETFROM:-0500
TZOFFSETTO:-0600
TZNAME:CST
DTSTART:20231105T070000
END:STANDARD
BEGIN:DAYLIGHT
TZOFFSETFROM:-0600
TZOFFSETTO:-0500
TZNAME:CDT
DTSTART:20240310T080000
END:DAYLIGHT
BEGIN:STANDARD
TZOFFSETFROM:-0500
TZOFFSETTO:-0600
TZNAME:CST
DTSTART:20241103T070000
END:STANDARD
END:VTIMEZONE
BEGIN:VEVENT
DTSTART;TZID=America/Chicago:20230427T120000
DTEND;TZID=America/Chicago:20230427T170000
DTSTAMP:20260424T063035
CREATED:20230406T183622Z
LAST-MODIFIED:20230406T204431Z
UID:10000093-1682596800-1682614800@www.pcapainted.org
SUMMARY:Sherwin-Williams ProShow Classic\, Pennsylvania
DESCRIPTION:Sherwin-Williams showcase of products and services with special presentation from Torlando Hakes (PCA Speaker) on Social Media Presence and Maximizing Profits and Project Management. \n3-4 Take aways:  \n\nAll pros invited.\nLunch meal provided.\nDiscover new ways to grow your business.\n\nRegister
URL:https://www.pcapainted.org/event/sherwin-williams-proshow-classic-pennsylvania/
LOCATION:Clipper Magazine Stadium\, 650 N Prince St.\, Lancaster\, PA\, 17603\, United States
ATTACH;FMTTYPE=image/png:https://www.pcapainted.org/wp-content/uploads/2023/04/Sherwin-Williams-ProShow-Classic-Flyer.png
END:VEVENT
END:VCALENDAR