BEGIN:VCALENDAR
VERSION:2.0
PRODID:-//PCA - ECPv6.15.12.2//NONSGML v1.0//EN
CALSCALE:GREGORIAN
METHOD:PUBLISH
X-ORIGINAL-URL:https://www.pcapainted.org
X-WR-CALDESC:Events for PCA
REFRESH-INTERVAL;VALUE=DURATION:PT1H
X-Robots-Tag:noindex
X-PUBLISHED-TTL:PT1H
BEGIN:VTIMEZONE
TZID:America/Chicago
BEGIN:DAYLIGHT
TZOFFSETFROM:-0600
TZOFFSETTO:-0500
TZNAME:CDT
DTSTART:20210314T080000
END:DAYLIGHT
BEGIN:STANDARD
TZOFFSETFROM:-0500
TZOFFSETTO:-0600
TZNAME:CST
DTSTART:20211107T070000
END:STANDARD
BEGIN:DAYLIGHT
TZOFFSETFROM:-0600
TZOFFSETTO:-0500
TZNAME:CDT
DTSTART:20220313T080000
END:DAYLIGHT
BEGIN:STANDARD
TZOFFSETFROM:-0500
TZOFFSETTO:-0600
TZNAME:CST
DTSTART:20221106T070000
END:STANDARD
BEGIN:DAYLIGHT
TZOFFSETFROM:-0600
TZOFFSETTO:-0500
TZNAME:CDT
DTSTART:20230312T080000
END:DAYLIGHT
BEGIN:STANDARD
TZOFFSETFROM:-0500
TZOFFSETTO:-0600
TZNAME:CST
DTSTART:20231105T070000
END:STANDARD
END:VTIMEZONE
BEGIN:VEVENT
DTSTART;VALUE=DATE:20221025
DTEND;VALUE=DATE:20221028
DTSTAMP:20260423T092432
CREATED:20221012T200815Z
LAST-MODIFIED:20221103T192416Z
UID:10000122-1666656000-1666915199@www.pcapainted.org
SUMMARY:Sherwin-Williams | Residential Repaint Contractor Conferences
DESCRIPTION:The Residential Repaint Contractor Conference is a program Sherwin-Williams offers to our residential contractors. It is a way to deepen our relationships with new and opportunity accounts by providing a networking opportunity to explore business concepts within the painting industry. The ideal participants for the conference should be Residential Repaint Contractors with 1 to 5 years of running their own business. \nWe will be discussing PRO+ in several of our modules\, so it is suggested each participant download their app prior to the conference. \nTuesday 10/25\nHoliday Inn La Mirada\n14299 Firestone Blvd\nLa Mirada\, CA 90638 \nWednesday 10/26\nHoliday Inn Express & Suites Ontario Airpot\n2280 S. Haven Ave.\nOntario\, CA 91761 \nThursday 10/27\nEmbassy Suites by Hilton Los Angeles\n800 N Central Ave.\nGlendale\, CA 91203 \nContact your local Sherwin-Williams rep to learn more or RSVP for this class!
URL:https://www.pcapainted.org/event/sherwin-williams-residential-repaint-contractor-conferences/
ATTACH;FMTTYPE=image/png:https://www.pcapainted.org/wp-content/uploads/2022/10/Residential-Repaint-Contractor-Conferences-.png
ORGANIZER;CN="Sherwin-Williams | Stephanie Gallardo":MAILTO:stephanie.gallardo@sherwin.com
END:VEVENT
END:VCALENDAR