BEGIN:VCALENDAR
VERSION:2.0
PRODID:-//PCA - ECPv6.15.12.2//NONSGML v1.0//EN
CALSCALE:GREGORIAN
METHOD:PUBLISH
X-WR-CALNAME:PCA
X-ORIGINAL-URL:https://www.pcapainted.org
X-WR-CALDESC:Events for PCA
REFRESH-INTERVAL;VALUE=DURATION:PT1H
X-Robots-Tag:noindex
X-PUBLISHED-TTL:PT1H
BEGIN:VTIMEZONE
TZID:America/Chicago
BEGIN:DAYLIGHT
TZOFFSETFROM:-0600
TZOFFSETTO:-0500
TZNAME:CDT
DTSTART:20210314T080000
END:DAYLIGHT
BEGIN:STANDARD
TZOFFSETFROM:-0500
TZOFFSETTO:-0600
TZNAME:CST
DTSTART:20211107T070000
END:STANDARD
BEGIN:DAYLIGHT
TZOFFSETFROM:-0600
TZOFFSETTO:-0500
TZNAME:CDT
DTSTART:20220313T080000
END:DAYLIGHT
BEGIN:STANDARD
TZOFFSETFROM:-0500
TZOFFSETTO:-0600
TZNAME:CST
DTSTART:20221106T070000
END:STANDARD
BEGIN:DAYLIGHT
TZOFFSETFROM:-0600
TZOFFSETTO:-0500
TZNAME:CDT
DTSTART:20230312T080000
END:DAYLIGHT
BEGIN:STANDARD
TZOFFSETFROM:-0500
TZOFFSETTO:-0600
TZNAME:CST
DTSTART:20231105T070000
END:STANDARD
END:VTIMEZONE
BEGIN:VEVENT
DTSTART;TZID=America/Chicago:20221118T080000
DTEND;TZID=America/Chicago:20221118T160000
DTSTAMP:20260425T055523
CREATED:20221017T141203Z
LAST-MODIFIED:20230418T162838Z
UID:10000108-1668758400-1668787200@www.pcapainted.org
SUMMARY:All In Painting & PCA | Prep and Protect Workshop hosted by Sherwin-Williams
DESCRIPTION:This 1-day workshop is open to novice painters and those who train them including painting contractors\, crew leaders\, foreman and trainers. Learn key prep skills in protecting surfaces and caulking: \n\nHow to load and operate a hand masker with plastic or paper for interior and exterior use: windows\, cabinet openings\, floors\, and other surfaces\nHow to classify masking tapes and their uses\nHow to apply masking tape to trim for speed\, efficiency and clean lines\nHow to protect floors\nHow to load and operate a caulk gun and apply caulk to joints\n\nThis workshop format will include classroom style instruction by the experts paired with hands-on training step by step. \n\nWalk away with honed essential skills that make a novice painter profitable faster\nLearn how to train faster and more efficiently\nAvoid surface protection mistakes in the field that cost time\, money and customer frustration\n\nREGISTRATION\n$99.00 registration fee per person includes lunch\, snacks\, beverages and swag \nSupport: Contact PCA\nEmail: support@pcapainted.org
URL:https://www.pcapainted.org/event/sherwin-williams-prep-protect-workshop/
LOCATION:Brentwood Community Center\, 2505 S Brentwood Blvd\, Brentwood\, MO\, 63144\, United States
ATTACH;FMTTYPE=image/jpeg:https://www.pcapainted.org/wp-content/uploads/2022/10/Prep-Protect-Workshop.jpg
ORGANIZER;CN="Julie Ethan":MAILTO:jethan@pcapainted.org
END:VEVENT
END:VCALENDAR