BEGIN:VCALENDAR
VERSION:2.0
PRODID:-//PCA - ECPv6.15.12.2//NONSGML v1.0//EN
CALSCALE:GREGORIAN
METHOD:PUBLISH
X-WR-CALNAME:PCA
X-ORIGINAL-URL:https://www.pcapainted.org
X-WR-CALDESC:Events for PCA
REFRESH-INTERVAL;VALUE=DURATION:PT1H
X-Robots-Tag:noindex
X-PUBLISHED-TTL:PT1H
BEGIN:VTIMEZONE
TZID:America/Chicago
BEGIN:DAYLIGHT
TZOFFSETFROM:-0600
TZOFFSETTO:-0500
TZNAME:CDT
DTSTART:20210314T080000
END:DAYLIGHT
BEGIN:STANDARD
TZOFFSETFROM:-0500
TZOFFSETTO:-0600
TZNAME:CST
DTSTART:20211107T070000
END:STANDARD
BEGIN:DAYLIGHT
TZOFFSETFROM:-0600
TZOFFSETTO:-0500
TZNAME:CDT
DTSTART:20220313T080000
END:DAYLIGHT
BEGIN:STANDARD
TZOFFSETFROM:-0500
TZOFFSETTO:-0600
TZNAME:CST
DTSTART:20221106T070000
END:STANDARD
BEGIN:DAYLIGHT
TZOFFSETFROM:-0600
TZOFFSETTO:-0500
TZNAME:CDT
DTSTART:20230312T080000
END:DAYLIGHT
BEGIN:STANDARD
TZOFFSETFROM:-0500
TZOFFSETTO:-0600
TZNAME:CST
DTSTART:20231105T070000
END:STANDARD
END:VTIMEZONE
BEGIN:VEVENT
DTSTART;TZID=America/Chicago:20221107T160000
DTEND;TZID=America/Chicago:20221107T190000
DTSTAMP:20260423T163541
CREATED:20221019T182301Z
LAST-MODIFIED:20221020T144031Z
UID:10000110-1667836800-1667847600@www.pcapainted.org
SUMMARY:Sherwin-Williams | Estimating and Productivity Seminar
DESCRIPTION:The Sherwin-Williams New Jersey Coastal District invites you to join them for an Estimating and Productivity Seminar with guest speaker Torlando Hakes. \nTopics will include: \n\nEstimating\nPerfect Production – From Estimate to Invoice\nAdding professionalism to the painting industry\n\nContact your local Sherwin-Williams rep for more information or to attend this class.
URL:https://www.pcapainted.org/event/sherwin-williams-estimating-and-productivity-seminar/
LOCATION:The Mainland in the Terrance Room\, 151 Route 72\, Manahawkin\, NJ\, 08050\, United States
ATTACH;FMTTYPE=image/png:https://www.pcapainted.org/wp-content/uploads/2022/10/stimating-and-Productivity-Seminar.png
ORGANIZER;CN="Sherwin-Williams | Donna Dalterio":MAILTO:donna.j.dalterio@sherwin.com
END:VEVENT
END:VCALENDAR